BEGIN:VCALENDAR
VERSION:2.0
PRODID:-//Dojo zen de Montpellier - ECPv6.15.20//NONSGML v1.0//EN
CALSCALE:GREGORIAN
METHOD:PUBLISH
X-WR-CALNAME:Dojo zen de Montpellier
X-ORIGINAL-URL:https://zen-montpellier.fr
X-WR-CALDESC:Évènements pour Dojo zen de Montpellier
REFRESH-INTERVAL;VALUE=DURATION:PT1H
X-Robots-Tag:noindex
X-PUBLISHED-TTL:PT1H
BEGIN:VTIMEZONE
TZID:UTC
BEGIN:STANDARD
TZOFFSETFROM:+0000
TZOFFSETTO:+0000
TZNAME:UTC
DTSTART:20150101T000000
END:STANDARD
END:VTIMEZONE
BEGIN:VEVENT
DTSTART;VALUE=DATE:20160325
DTEND;VALUE=DATE:20160329
DTSTAMP:20260422T043001
CREATED:20250112T182011Z
LAST-MODIFIED:20250114T141137Z
UID:6832-1458864000-1459209599@zen-montpellier.fr
SUMMARY:Camp de printemps 2016
DESCRIPTION:
URL:https://zen-montpellier.fr/stage-meditation-zen/camp-de-printemps-2016/
LOCATION:Temple zen Yujo Nyusanji\, JX7J+R5 Rosis\, Rosis\, 34610\, France
ATTACH;FMTTYPE=image/webp:https://zen-montpellier.fr/wp-content/uploads/2025/01/afiche_printemps2016_frhd.webp
END:VEVENT
END:VCALENDAR