BEGIN:VCALENDAR
VERSION:2.0
PRODID:-//Dojo zen de Montpellier - ECPv6.15.20//NONSGML v1.0//EN
CALSCALE:GREGORIAN
METHOD:PUBLISH
X-WR-CALNAME:Dojo zen de Montpellier
X-ORIGINAL-URL:https://zen-montpellier.fr
X-WR-CALDESC:Évènements pour Dojo zen de Montpellier
REFRESH-INTERVAL;VALUE=DURATION:PT1H
X-Robots-Tag:noindex
X-PUBLISHED-TTL:PT1H
BEGIN:VTIMEZONE
TZID:UTC
BEGIN:STANDARD
TZOFFSETFROM:+0000
TZOFFSETTO:+0000
TZNAME:UTC
DTSTART:20130101T000000
END:STANDARD
END:VTIMEZONE
BEGIN:VEVENT
DTSTART;VALUE=DATE:20140529
DTEND;VALUE=DATE:20140602
DTSTAMP:20260423T150911
CREATED:20250114T181825Z
LAST-MODIFIED:20250114T181935Z
UID:7035-1401321600-1401667199@zen-montpellier.fr
SUMMARY:Sesshin de l'Ascension 2014
DESCRIPTION:
URL:https://zen-montpellier.fr/stage-meditation-zen/sesshin-de-lascension-2014/
LOCATION:Temple zen Yujo Nyusanji\, JX7J+R5 Rosis\, Rosis\, 34610\, France
ATTACH;FMTTYPE=image/webp:https://zen-montpellier.fr/wp-content/uploads/2025/01/affiche_sesshin_alta.webp
END:VEVENT
END:VCALENDAR