BEGIN:VCALENDAR
VERSION:2.0
PRODID:-//Dojo zen de Montpellier - ECPv6.15.20//NONSGML v1.0//EN
CALSCALE:GREGORIAN
METHOD:PUBLISH
X-ORIGINAL-URL:https://zen-montpellier.fr
X-WR-CALDESC:Évènements pour Dojo zen de Montpellier
REFRESH-INTERVAL;VALUE=DURATION:PT1H
X-Robots-Tag:noindex
X-PUBLISHED-TTL:PT1H
BEGIN:VTIMEZONE
TZID:UTC
BEGIN:STANDARD
TZOFFSETFROM:+0000
TZOFFSETTO:+0000
TZNAME:UTC
DTSTART:20120101T000000
END:STANDARD
END:VTIMEZONE
BEGIN:VEVENT
DTSTART;VALUE=DATE:20130508
DTEND;VALUE=DATE:20130513
DTSTAMP:20260424T115822
CREATED:20250114T182357Z
LAST-MODIFIED:20250114T182357Z
UID:7042-1367971200-1368403199@zen-montpellier.fr
SUMMARY:Sesshin de l’Ascension 2013
DESCRIPTION:
URL:https://zen-montpellier.fr/stage-meditation-zen/sesshin-de-lascension-2013/
LOCATION:Temple zen Yujo Nyusanji\, JX7J+R5 Rosis\, Rosis\, 34610\, France
ATTACH;FMTTYPE=image/webp:https://zen-montpellier.fr/wp-content/uploads/2025/01/ascension_2013.webp
END:VEVENT
END:VCALENDAR