BEGIN:VCALENDAR
VERSION:2.0
PRODID:-//Dojo zen de Montpellier - ECPv6.15.20//NONSGML v1.0//EN
CALSCALE:GREGORIAN
METHOD:PUBLISH
X-WR-CALNAME:Dojo zen de Montpellier
X-ORIGINAL-URL:https://zen-montpellier.fr
X-WR-CALDESC:Évènements pour Dojo zen de Montpellier
REFRESH-INTERVAL;VALUE=DURATION:PT1H
X-Robots-Tag:noindex
X-PUBLISHED-TTL:PT1H
BEGIN:VTIMEZONE
TZID:UTC
BEGIN:STANDARD
TZOFFSETFROM:+0000
TZOFFSETTO:+0000
TZNAME:UTC
DTSTART:20210101T000000
END:STANDARD
END:VTIMEZONE
BEGIN:VEVENT
DTSTART;VALUE=DATE:20220416
DTEND;VALUE=DATE:20220419
DTSTAMP:20260421T104258
CREATED:20250113T094957Z
LAST-MODIFIED:20250114T142346Z
UID:6888-1650067200-1650326399@zen-montpellier.fr
SUMMARY:Sesshin de Pâques 2022
DESCRIPTION:
URL:https://zen-montpellier.fr/stage-meditation-zen/sesshin-de-paques-2022/
LOCATION:Temple zen Yujo Nyusanji\, JX7J+R5 Rosis\, Rosis\, 34610\, France
ATTACH;FMTTYPE=image/webp:https://zen-montpellier.fr/wp-content/uploads/2025/01/Sesshin-de-Paques-Fr.webp
END:VEVENT
END:VCALENDAR