BEGIN:VCALENDAR
VERSION:2.0
PRODID:-//Dojo zen de Montpellier - ECPv6.15.20//NONSGML v1.0//EN
CALSCALE:GREGORIAN
METHOD:PUBLISH
X-ORIGINAL-URL:https://zen-montpellier.fr
X-WR-CALDESC:Évènements pour Dojo zen de Montpellier
REFRESH-INTERVAL;VALUE=DURATION:PT1H
X-Robots-Tag:noindex
X-PUBLISHED-TTL:PT1H
BEGIN:VTIMEZONE
TZID:UTC
BEGIN:STANDARD
TZOFFSETFROM:+0000
TZOFFSETTO:+0000
TZNAME:UTC
DTSTART:20230101T000000
END:STANDARD
END:VTIMEZONE
BEGIN:VEVENT
DTSTART;VALUE=DATE:20240613
DTEND;VALUE=DATE:20240617
DTSTAMP:20260420T181014
CREATED:20250118T073527Z
LAST-MODIFIED:20250223T163416Z
UID:7131-1718236800-1718582399@zen-montpellier.fr
SUMMARY:Sesshin du kesa 2024
DESCRIPTION:
URL:https://zen-montpellier.fr/stage-meditation-zen/sesshin-du-kesa-2024/
LOCATION:Temple zen Yujo Nyusanji\, JX7J+R5 Rosis\, Rosis\, 34610\, France
CATEGORIES:temple
ATTACH;FMTTYPE=image/webp:https://zen-montpellier.fr/wp-content/uploads/2025/01/SESSHIN-du-KESA-2024-FR.webp
END:VEVENT
END:VCALENDAR