BEGIN:VCALENDAR
VERSION:2.0
PRODID:-//Dojo zen de Montpellier - ECPv6.15.20//NONSGML v1.0//EN
CALSCALE:GREGORIAN
METHOD:PUBLISH
X-ORIGINAL-URL:https://zen-montpellier.fr
X-WR-CALDESC:Évènements pour Dojo zen de Montpellier
REFRESH-INTERVAL;VALUE=DURATION:PT1H
X-Robots-Tag:noindex
X-PUBLISHED-TTL:PT1H
BEGIN:VTIMEZONE
TZID:UTC
BEGIN:STANDARD
TZOFFSETFROM:+0000
TZOFFSETTO:+0000
TZNAME:UTC
DTSTART:20200101T000000
END:STANDARD
END:VTIMEZONE
BEGIN:VEVENT
DTSTART;VALUE=DATE:20211030
DTEND;VALUE=DATE:20211102
DTSTAMP:20260424T000003
CREATED:20250113T072727Z
LAST-MODIFIED:20250114T160855Z
UID:6873-1635552000-1635811199@zen-montpellier.fr
SUMMARY:Camp d'Automne 2021
DESCRIPTION:
URL:https://zen-montpellier.fr/stage-meditation-zen/camp-dautomne-2021/
LOCATION:Temple zen Yujo Nyusanji\, JX7J+R5 Rosis\, Rosis\, 34610\, France
ATTACH;FMTTYPE=image/webp:https://zen-montpellier.fr/wp-content/uploads/2025/01/camp_dautomne_2021_fr_1.webp
END:VEVENT
END:VCALENDAR